BEGIN:VCALENDAR
VERSION:2.0
PRODID:-//solanolandtrust.org//NONSGML kigkonsult.se iCalcreator 2.30.10//
CALSCALE:GREGORIAN
METHOD:PUBLISH
UID:859b0628-a65c-4094-be1f-f8b3a8a4b6ed
X-WR-CALDESC:Join Solano Land Trust on Grizzly Island Road at the HIllsloug
 h Bridge in Suisun City for an Earth Day Cleanup!   All are welcome!  Supp
 lies and equipment will be provided.  This clean up is part of a county - 
 wide group of clean ups to celebrate Earth Day.  Visit https://www.cleanup
 solano.org/home/earth-day-cleanup for more information.  \n\nRegistration 
 required. \n
X-WR-RELCALID:553c612a383a4a4f4ee8df7979c89d61
X-WR-TIMEZONE:America/Chicago
BEGIN:VTIMEZONE
TZID:America/Chicago
BEGIN:STANDARD
TZNAME:CST
DTSTART:20251102T020000
TZOFFSETFROM:-0500
TZOFFSETTO:-0600
RDATE:20261101T020000
END:STANDARD
BEGIN:DAYLIGHT
TZNAME:CDT
DTSTART:20260308T020000
TZOFFSETFROM:-0600
TZOFFSETTO:-0500
RDATE:20270314T020000
END:DAYLIGHT
END:VTIMEZONE
BEGIN:VEVENT
UID:9354ee77-40c8-433d-b734-893773c05cbb
DTSTAMP:20260420T095050Z
DESCRIPTION:Join Solano Land Trust on Grizzly Island Road at the HIllslough
  Bridge in Suisun City for an Earth Day Cleanup!   All are welcome!  Suppl
 ies and equipment will be provided.  This clean up is part of a county - w
 ide group of clean ups to celebrate Earth Day.  Visit https://www.cleanups
 olano.org/home/earth-day-cleanup for more information.  \n\nRegistration r
 equired. \n
DTSTART;TZID=America/Chicago:20260411T093000
DTEND;TZID=America/Chicago:20260411T123000
LOCATION:Meeting Location:  Hillslough Bridge on Grizzly Island Road.
SUMMARY:Earth Day Clean Up
END:VEVENT
END:VCALENDAR
