BEGIN:VCALENDAR
VERSION:2.0
PRODID:-//solanolandtrust.org//NONSGML kigkonsult.se iCalcreator 2.30.10//
CALSCALE:GREGORIAN
METHOD:PUBLISH
UID:2e5f293a-9ea2-4e12-9e2c-42477180bf01
X-WR-CALDESC:Please join us at this free\, outdoor event with something for
  everyone!
X-WR-RELCALID:ebbc79c3ab0cbf862220be0413e762fd
X-WR-TIMEZONE:America/Chicago
BEGIN:VTIMEZONE
TZID:America/Chicago
BEGIN:STANDARD
TZNAME:CST
DTSTART:20251102T020000
TZOFFSETFROM:-0500
TZOFFSETTO:-0600
RDATE:20261101T020000
END:STANDARD
BEGIN:DAYLIGHT
TZNAME:CDT
DTSTART:20260308T020000
TZOFFSETFROM:-0600
TZOFFSETTO:-0500
RDATE:20270314T020000
END:DAYLIGHT
END:VTIMEZONE
BEGIN:VEVENT
UID:1d533fe1-2f0b-4671-b167-19491a6d384a
DTSTAMP:20260420T112607Z
DESCRIPTION:Please join us at this free\, outdoor event with something for 
 everyone!
DTSTART;TZID=America/Chicago:20260418T100000
DTEND;TZID=America/Chicago:20260418T150000
LOCATION:Rush Ranch\, 3521 Grizzly Island Rd.\, Suisun City\, CA 94585 US
SUMMARY:36th Annual Rush Ranch Open House
END:VEVENT
END:VCALENDAR
