BEGIN:VCALENDAR
VERSION:2.0
PRODID:-//solanolandtrust.org//NONSGML kigkonsult.se iCalcreator 2.30.10//
CALSCALE:GREGORIAN
METHOD:PUBLISH
UID:a4af0e2a-84a1-4e5d-a05e-01b4134b95f3
X-WR-CALDESC:Live music | Dinner | Auction\n\nMulti-course dinner\, Complim
 entary wine and beer\n\nLive music\nLive Auctions\n\nIndividual tickets: $
 175\nTable for 8 people: $1\,300
X-WR-RELCALID:2b4e29acb8bc864c45505bbbc12e482c
X-WR-TIMEZONE:America/Chicago
BEGIN:VTIMEZONE
TZID:America/Chicago
BEGIN:STANDARD
TZNAME:CST
DTSTART:20241103T020000
TZOFFSETFROM:-0500
TZOFFSETTO:-0600
RDATE:20251102T020000
RDATE:20261101T020000
END:STANDARD
BEGIN:DAYLIGHT
TZNAME:CDT
DTSTART:20250309T020000
TZOFFSETFROM:-0600
TZOFFSETTO:-0500
RDATE:20260308T020000
RDATE:20270314T020000
END:DAYLIGHT
END:VTIMEZONE
BEGIN:VEVENT
UID:2b473e8f-3085-4d31-97e8-e1ddcf240dd1
DTSTAMP:20260421T084428Z
DESCRIPTION:Live music | Dinner | Auction\n\nMulti-course dinner\, Complime
 ntary wine and beer\n\nLive music\nLive Auctions\n\nIndividual tickets: $1
 75\nTable for 8 people: $1\,300
DTSTART;TZID=America/Chicago:20251005T160000
DTEND;TZID=America/Chicago:20251005T193000
LOCATION:
SUMMARY:Sunday Supper
END:VEVENT
END:VCALENDAR
